BEGIN:VCALENDAR
VERSION:2.0
PRODID:-// - ECPv6.15.20//NONSGML v1.0//EN
CALSCALE:GREGORIAN
METHOD:PUBLISH
X-ORIGINAL-URL:https://mvsg-info.de
X-WR-CALDESC:Veranstaltungen für 
REFRESH-INTERVAL;VALUE=DURATION:PT1H
X-Robots-Tag:noindex
X-PUBLISHED-TTL:PT1H
BEGIN:VTIMEZONE
TZID:UTC
BEGIN:STANDARD
TZOFFSETFROM:+0000
TZOFFSETTO:+0000
TZNAME:UTC
DTSTART:20250101T000000
END:STANDARD
END:VTIMEZONE
BEGIN:VEVENT
DTSTART;TZID=UTC:20261003T000000
DTEND;TZID=UTC:20261003T235959
DTSTAMP:20260421T181821
CREATED:20260319T111054Z
LAST-MODIFIED:20260319T111055Z
UID:1659-1790985600-1791071999@mvsg-info.de
SUMMARY:Ransel Saison-Finale
DESCRIPTION:
URL:https://mvsg-info.de/event/ransel-saison-finale/
END:VEVENT
BEGIN:VEVENT
DTSTART;TZID=UTC:20261009T000000
DTEND;TZID=UTC:20261011T235959
DTSTAMP:20260421T181821
CREATED:20260319T111157Z
LAST-MODIFIED:20260319T111157Z
UID:1661-1791504000-1791763199@mvsg-info.de
SUMMARY:Veterama Mannheim
DESCRIPTION:
URL:https://mvsg-info.de/event/veterama-mannheim/
END:VEVENT
END:VCALENDAR