BEGIN:VCALENDAR
VERSION:2.0
PRODID:-// - ECPv6.15.20//NONSGML v1.0//EN
CALSCALE:GREGORIAN
METHOD:PUBLISH
X-ORIGINAL-URL:https://mvsg-info.de
X-WR-CALDESC:Veranstaltungen für 
REFRESH-INTERVAL;VALUE=DURATION:PT1H
X-Robots-Tag:noindex
X-PUBLISHED-TTL:PT1H
BEGIN:VTIMEZONE
TZID:UTC
BEGIN:STANDARD
TZOFFSETFROM:+0000
TZOFFSETTO:+0000
TZNAME:UTC
DTSTART:20250101T000000
END:STANDARD
END:VTIMEZONE
BEGIN:VTIMEZONE
TZID:Europe/Paris
BEGIN:DAYLIGHT
TZOFFSETFROM:+0100
TZOFFSETTO:+0200
TZNAME:CEST
DTSTART:20250330T010000
END:DAYLIGHT
BEGIN:STANDARD
TZOFFSETFROM:+0200
TZOFFSETTO:+0100
TZNAME:CET
DTSTART:20251026T010000
END:STANDARD
BEGIN:DAYLIGHT
TZOFFSETFROM:+0100
TZOFFSETTO:+0200
TZNAME:CEST
DTSTART:20260329T010000
END:DAYLIGHT
BEGIN:STANDARD
TZOFFSETFROM:+0200
TZOFFSETTO:+0100
TZNAME:CET
DTSTART:20261025T010000
END:STANDARD
BEGIN:DAYLIGHT
TZOFFSETFROM:+0100
TZOFFSETTO:+0200
TZNAME:CEST
DTSTART:20270328T010000
END:DAYLIGHT
BEGIN:STANDARD
TZOFFSETFROM:+0200
TZOFFSETTO:+0100
TZNAME:CET
DTSTART:20271031T010000
END:STANDARD
END:VTIMEZONE
BEGIN:VEVENT
DTSTART;TZID=UTC:20260424T000000
DTEND;TZID=UTC:20260426T235959
DTSTAMP:20260421T121559
CREATED:20260318T142847Z
LAST-MODIFIED:20260318T142848Z
UID:1592-1776988800-1777247999@mvsg-info.de
SUMMARY:Veterama Hockenheim
DESCRIPTION:
URL:https://mvsg-info.de/event/veterama-hockenheim/
END:VEVENT
BEGIN:VEVENT
DTSTART;TZID=UTC:20260501T000000
DTEND;TZID=UTC:20260501T235959
DTSTAMP:20260421T121559
CREATED:20260319T103449Z
LAST-MODIFIED:20260319T103450Z
UID:1594-1777593600-1777679999@mvsg-info.de
SUMMARY:38. Traditionelle Maiausfahrt für Motorräder bis Bj. 1979 in Gensingen
DESCRIPTION:
URL:https://mvsg-info.de/event/38-traditionelle-maiausfahrt-fuer-motorraeder-bis-bj-1979-in-gensingen/
END:VEVENT
BEGIN:VEVENT
DTSTART;TZID=UTC:20260509T000000
DTEND;TZID=UTC:20260509T235959
DTSTAMP:20260421T121559
CREATED:20260319T103743Z
LAST-MODIFIED:20260319T103744Z
UID:1597-1778284800-1778371199@mvsg-info.de
SUMMARY:Ransel
DESCRIPTION:
URL:https://mvsg-info.de/event/ransel-2/
END:VEVENT
BEGIN:VEVENT
DTSTART;TZID=UTC:20260509T000000
DTEND;TZID=UTC:20260510T235959
DTSTAMP:20260421T121559
CREATED:20260319T103842Z
LAST-MODIFIED:20260319T103842Z
UID:1599-1778284800-1778457599@mvsg-info.de
SUMMARY:OCRM Ausstellung Ingelheim\, Alte Markthalle
DESCRIPTION:
URL:https://mvsg-info.de/event/ocrm-ausstellung-ingelheim-alte-markthalle/
END:VEVENT
BEGIN:VEVENT
DTSTART;TZID=UTC:20260516T000000
DTEND;TZID=UTC:20260517T235959
DTSTAMP:20260421T121559
CREATED:20260319T103943Z
LAST-MODIFIED:20260319T103944Z
UID:1601-1778889600-1779062399@mvsg-info.de
SUMMARY:Autojumble Beaulieu
DESCRIPTION:
URL:https://mvsg-info.de/event/autojumble-beaulieu/
END:VEVENT
BEGIN:VEVENT
DTSTART;TZID=UTC:20260522T000000
DTEND;TZID=UTC:20260524T235959
DTSTAMP:20260421T121559
CREATED:20260319T104047Z
LAST-MODIFIED:20260319T111545Z
UID:1603-1779408000-1779667199@mvsg-info.de
SUMMARY: 6. BSA Coalmantreffen - Odenwald
DESCRIPTION:
URL:https://mvsg-info.de/event/6-bsa-coalmantreffen-odenwald/
END:VEVENT
BEGIN:VEVENT
DTSTART;TZID=UTC:20260524T000000
DTEND;TZID=UTC:20260524T235959
DTSTAMP:20260421T121559
CREATED:20260319T104124Z
LAST-MODIFIED:20260319T104125Z
UID:1605-1779580800-1779667199@mvsg-info.de
SUMMARY:Oldtimertreffen Burg Layen
DESCRIPTION:
URL:https://mvsg-info.de/event/oldtimertreffen-burg-layen/
END:VEVENT
BEGIN:VEVENT
DTSTART;TZID=UTC:20260529T000000
DTEND;TZID=UTC:20260531T235959
DTSTAMP:20260421T121559
CREATED:20260319T104246Z
LAST-MODIFIED:20260319T104246Z
UID:1607-1780012800-1780271999@mvsg-info.de
SUMMARY:26. International Windmill Rally (Windmill Trophy) Bodenheim
DESCRIPTION:
URL:https://mvsg-info.de/event/26-international-windmill-rally-windmill-trophy-bodenheim/
END:VEVENT
BEGIN:VEVENT
DTSTART;TZID=UTC:20260530T000000
DTEND;TZID=UTC:20260530T235959
DTSTAMP:20260421T121559
CREATED:20260319T104350Z
LAST-MODIFIED:20260319T104351Z
UID:1609-1780099200-1780185599@mvsg-info.de
SUMMARY:8. Mainzer Zweiradrallye in Bodenheim
DESCRIPTION:
URL:https://mvsg-info.de/event/8-mainzer-zweiradrallye-in-bodenheim/
END:VEVENT
BEGIN:VEVENT
DTSTART;TZID=Europe/Paris:20260604T110000
DTEND;TZID=Europe/Paris:20260604T170000
DTSTAMP:20260421T121559
CREATED:20260322T094304Z
LAST-MODIFIED:20260322T094305Z
UID:1692-1780570800-1780592400@mvsg-info.de
SUMMARY:Oldtimertreffen&Hoffest
DESCRIPTION:Liebe Oldtimer-Freundinnen und -Freunde\,liebe Mitglieder der befreundeten Vereine\, \n\n\n\nwir möchten Euch herzlich am 04.06.2026 ab 11:00 zu einem besonderen Treffen im Rahmen des Hoffests des Weinguts Wasem in Ingelheim einladen.https://www.wasem.de/de/300jahre/ \n\n\n\nGemeinsam mit dem Weingut Wasem feiern wir glänzenden Chrom\, echte Fahrkultur und besondere Jahrgänge – sowohl auf vier Rädern als auch im Glas. \n\n\n\nFreut Euch auf ein entspanntes Zusammensein zwischen historischen Fahrzeugen\, ausgezeichneten Weinen und kulinarischen Köstlichkeiten des Hoffests. \n\n\n\nUnd aufgepasst: Beim Oldtimer-Quiz könnt Ihr Euer Wissen unter Beweis stellen und habt die Chance auf einen der drei Hauptpreise.Für jeden angereisten Oldtimer gibt es außerdem ein exklusives Gastgeschenk. \n\n\n\nWir freuen uns sehr\, Euch und Eure Fahrzeuge (bis BJ 1996) bei diesem besonderen Anlass begrüßen zu dürfen und gemeinsam einen genussvollen Tag zu verbringen.Doch Vorsicht: wenn der Platz voll ist\, ist er voll. \n\n\n\nMit herzlichen Grüßen \n\n\n\nSimone Peters \n\n\n\nIngelheimer Oldtimer Initiative
URL:https://mvsg-info.de/event/oldtimertreffenhoffest/
ORGANIZER;CN="Ingelheimer-oldtimer-initiative.de":MAILTO:info@ingelheimer-oldtimer-initiative.de
END:VEVENT
BEGIN:VEVENT
DTSTART;TZID=UTC:20260607T000000
DTEND;TZID=UTC:20260607T235959
DTSTAMP:20260421T121559
CREATED:20260319T104439Z
LAST-MODIFIED:20260319T104440Z
UID:1611-1780790400-1780876799@mvsg-info.de
SUMMARY:Ransel
DESCRIPTION:
URL:https://mvsg-info.de/event/ransel-3/
END:VEVENT
BEGIN:VEVENT
DTSTART;TZID=UTC:20260607T000000
DTEND;TZID=UTC:20260607T235959
DTSTAMP:20260421T121559
CREATED:20260319T104650Z
LAST-MODIFIED:20260319T104651Z
UID:1613-1780790400-1780876799@mvsg-info.de
SUMMARY:3. OCRM Treffen Wonsheim\, Alter Sportplatz
DESCRIPTION:
URL:https://mvsg-info.de/event/3-ocrm-treffen-wonsheim-alter-sportplatz/
END:VEVENT
BEGIN:VEVENT
DTSTART;TZID=UTC:20260613T000000
DTEND;TZID=UTC:20260614T235959
DTSTAMP:20260421T121559
CREATED:20260319T104757Z
LAST-MODIFIED:20260319T104758Z
UID:1615-1781308800-1781481599@mvsg-info.de
SUMMARY:35. Lufthansa-Klassikertage\, Hattersheim
DESCRIPTION:
URL:https://mvsg-info.de/event/35-lufthansa-klassikertage-hattersheim/
END:VEVENT
BEGIN:VEVENT
DTSTART;TZID=UTC:20260614T000000
DTEND;TZID=UTC:20260614T235959
DTSTAMP:20260421T121559
CREATED:20260319T104838Z
LAST-MODIFIED:20260319T104838Z
UID:1617-1781395200-1781481599@mvsg-info.de
SUMMARY:Oldietreffen Bingen-Weiler
DESCRIPTION:
URL:https://mvsg-info.de/event/oldietreffen-bingen-weiler/
END:VEVENT
BEGIN:VEVENT
DTSTART;TZID=UTC:20260614T000000
DTEND;TZID=UTC:20260614T235959
DTSTAMP:20260421T121559
CREATED:20260319T105323Z
LAST-MODIFIED:20260319T105324Z
UID:1625-1781395200-1781481599@mvsg-info.de
SUMMARY:Alteisentreffen Bockenheim im Weingut Benß
DESCRIPTION:
URL:https://mvsg-info.de/event/alteisentreffen-bockenheim-im-weingut-benss/
END:VEVENT
BEGIN:VEVENT
DTSTART;TZID=UTC:20260614T000000
DTEND;TZID=UTC:20260614T235959
DTSTAMP:20260421T121559
CREATED:20260319T105408Z
LAST-MODIFIED:20260319T105409Z
UID:1627-1781395200-1781481599@mvsg-info.de
SUMMARY:1. Baumholder Classics - Oldtimertreffen rund um den Stadtweiher
DESCRIPTION:
URL:https://mvsg-info.de/event/1-baumholder-classics-oldtimertreffen-rund-um-den-stadtweiher/
END:VEVENT
BEGIN:VEVENT
DTSTART;TZID=UTC:20260620T000000
DTEND;TZID=UTC:20260620T235959
DTSTAMP:20260421T121559
CREATED:20260319T105002Z
LAST-MODIFIED:20260319T105003Z
UID:1619-1781913600-1781999999@mvsg-info.de
SUMMARY:Donnersberg Classic in Kerzenheim
DESCRIPTION:
URL:https://mvsg-info.de/event/donnersberg-classic-in-kerzenheim/
END:VEVENT
BEGIN:VEVENT
DTSTART;TZID=UTC:20260626T000000
DTEND;TZID=UTC:20260628T235959
DTSTAMP:20260421T121559
CREATED:20260319T105135Z
LAST-MODIFIED:20260319T105136Z
UID:1621-1782432000-1782691199@mvsg-info.de
SUMMARY:Rund um Bad Münstereifel
DESCRIPTION:
URL:https://mvsg-info.de/event/rund-um-bad-muenstereifel/
END:VEVENT
BEGIN:VEVENT
DTSTART;TZID=UTC:20260628T000000
DTEND;TZID=UTC:20260628T235959
DTSTAMP:20260421T121559
CREATED:20260319T105228Z
LAST-MODIFIED:20260319T105229Z
UID:1623-1782604800-1782691199@mvsg-info.de
SUMMARY:Quirnheim Flugtage mit Oldtimertreffen
DESCRIPTION:
URL:https://mvsg-info.de/event/quirnheim-flugtage-mit-oldtimertreffen/
END:VEVENT
BEGIN:VEVENT
DTSTART;TZID=UTC:20260705T000000
DTEND;TZID=UTC:20260705T235959
DTSTAMP:20260421T121559
CREATED:20260319T105503Z
LAST-MODIFIED:20260319T105504Z
UID:1629-1783209600-1783295999@mvsg-info.de
SUMMARY:Wein trifft Classic in Rüdesheim/Nahe
DESCRIPTION:
URL:https://mvsg-info.de/event/wein-trifft-classic-in-ruedesheim-nahe/
END:VEVENT
BEGIN:VEVENT
DTSTART;TZID=UTC:20260705T000000
DTEND;TZID=UTC:20260705T235959
DTSTAMP:20260421T121559
CREATED:20260319T105553Z
LAST-MODIFIED:20260319T105554Z
UID:1631-1783209600-1783295999@mvsg-info.de
SUMMARY:Ransel
DESCRIPTION:
URL:https://mvsg-info.de/event/ransel-4/
END:VEVENT
BEGIN:VEVENT
DTSTART;TZID=UTC:20260712T000000
DTEND;TZID=UTC:20260712T235959
DTSTAMP:20260421T121559
CREATED:20260319T105713Z
LAST-MODIFIED:20260319T105714Z
UID:1633-1783814400-1783900799@mvsg-info.de
SUMMARY:Oldtimertreff Rhein-Nahe-Eck in Bingen
DESCRIPTION:
URL:https://mvsg-info.de/event/oldtimertreff-rhein-nahe-eck-in-bingen/
END:VEVENT
BEGIN:VEVENT
DTSTART;TZID=UTC:20260718T000000
DTEND;TZID=UTC:20260718T235959
DTSTAMP:20260421T121559
CREATED:20260319T105806Z
LAST-MODIFIED:20260319T105807Z
UID:1635-1784332800-1784419199@mvsg-info.de
SUMMARY:17. Oldtimertreffen am hist. Marktplatz in Boppard
DESCRIPTION:
URL:https://mvsg-info.de/event/17-oldtimertreffen-am-hist-marktplatz-in-boppard/
END:VEVENT
BEGIN:VEVENT
DTSTART;TZID=UTC:20260802T000000
DTEND;TZID=UTC:20260802T235959
DTSTAMP:20260421T121559
CREATED:20260319T105855Z
LAST-MODIFIED:20260319T105855Z
UID:1637-1785628800-1785715199@mvsg-info.de
SUMMARY:30. Oldtimertreffen Bad Münster am Stein
DESCRIPTION:
URL:https://mvsg-info.de/event/30-oldtimertreffen-bad-muenster-am-stein/
END:VEVENT
BEGIN:VEVENT
DTSTART;TZID=UTC:20260802T000000
DTEND;TZID=UTC:20260802T235959
DTSTAMP:20260421T121559
CREATED:20260319T105929Z
LAST-MODIFIED:20260319T105930Z
UID:1639-1785628800-1785715199@mvsg-info.de
SUMMARY:Ransel
DESCRIPTION:
URL:https://mvsg-info.de/event/ransel-5/
END:VEVENT
BEGIN:VEVENT
DTSTART;TZID=UTC:20260809T000000
DTEND;TZID=UTC:20260809T235959
DTSTAMP:20260421T121559
CREATED:20260319T110020Z
LAST-MODIFIED:20260319T110021Z
UID:1641-1786233600-1786319999@mvsg-info.de
SUMMARY:Oldtimer-Motorradtreffen auf der Kyrburg in Kirn
DESCRIPTION:
URL:https://mvsg-info.de/event/oldtimer-motorradtreffen-auf-der-kyrburg-in-kirn/
END:VEVENT
BEGIN:VEVENT
DTSTART;TZID=UTC:20260815T000000
DTEND;TZID=UTC:20260816T235959
DTSTAMP:20260421T121559
CREATED:20260319T110116Z
LAST-MODIFIED:20260319T110117Z
UID:1643-1786752000-1786924799@mvsg-info.de
SUMMARY:Schotten VFV Historic Grand Prix
DESCRIPTION:
URL:https://mvsg-info.de/event/schotten-vfv-historic-grand-prix/
END:VEVENT
BEGIN:VEVENT
DTSTART;TZID=UTC:20260816T000000
DTEND;TZID=UTC:20260816T235959
DTSTAMP:20260421T121559
CREATED:20260319T110201Z
LAST-MODIFIED:20260319T110202Z
UID:1645-1786838400-1786924799@mvsg-info.de
SUMMARY:Quirnheim Zweiradtreffen 50-125ccm
DESCRIPTION:
URL:https://mvsg-info.de/event/quirnheim-zweiradtreffen-50-125ccm/
END:VEVENT
BEGIN:VEVENT
DTSTART;TZID=UTC:20260823T000000
DTEND;TZID=UTC:20260823T235959
DTSTAMP:20260421T121559
CREATED:20260319T110301Z
LAST-MODIFIED:20260319T110302Z
UID:1647-1787443200-1787529599@mvsg-info.de
SUMMARY:Cow Mountain in Bad kreuznach
DESCRIPTION:
URL:https://mvsg-info.de/event/cow-mountain-in-bad-kreuznach/
END:VEVENT
BEGIN:VEVENT
DTSTART;TZID=UTC:20260828T000000
DTEND;TZID=UTC:20260830T235959
DTSTAMP:20260421T121559
CREATED:20260319T110408Z
LAST-MODIFIED:20260319T110409Z
UID:1649-1787875200-1788134399@mvsg-info.de
SUMMARY:3. CBBC-Taunus-Treffen in Rettershain
DESCRIPTION:
URL:https://mvsg-info.de/event/3-cbbc-taunus-treffen-in-rettershain/
END:VEVENT
END:VCALENDAR