BEGIN:VCALENDAR
VERSION:2.0
PRODID:-// - ECPv6.15.20//NONSGML v1.0//EN
CALSCALE:GREGORIAN
METHOD:PUBLISH
X-ORIGINAL-URL:https://mvsg-info.de
X-WR-CALDESC:Veranstaltungen für 
REFRESH-INTERVAL;VALUE=DURATION:PT1H
X-Robots-Tag:noindex
X-PUBLISHED-TTL:PT1H
BEGIN:VTIMEZONE
TZID:Europe/Paris
BEGIN:DAYLIGHT
TZOFFSETFROM:+0100
TZOFFSETTO:+0200
TZNAME:CEST
DTSTART:20250330T010000
END:DAYLIGHT
BEGIN:STANDARD
TZOFFSETFROM:+0200
TZOFFSETTO:+0100
TZNAME:CET
DTSTART:20251026T010000
END:STANDARD
BEGIN:DAYLIGHT
TZOFFSETFROM:+0100
TZOFFSETTO:+0200
TZNAME:CEST
DTSTART:20260329T010000
END:DAYLIGHT
BEGIN:STANDARD
TZOFFSETFROM:+0200
TZOFFSETTO:+0100
TZNAME:CET
DTSTART:20261025T010000
END:STANDARD
BEGIN:DAYLIGHT
TZOFFSETFROM:+0100
TZOFFSETTO:+0200
TZNAME:CEST
DTSTART:20270328T010000
END:DAYLIGHT
BEGIN:STANDARD
TZOFFSETFROM:+0200
TZOFFSETTO:+0100
TZNAME:CET
DTSTART:20271031T010000
END:STANDARD
END:VTIMEZONE
BEGIN:VEVENT
DTSTART;TZID=Europe/Paris:20260604T110000
DTEND;TZID=Europe/Paris:20260604T170000
DTSTAMP:20260421T143035
CREATED:20260322T094304Z
LAST-MODIFIED:20260322T094305Z
UID:1692-1780570800-1780592400@mvsg-info.de
SUMMARY:Oldtimertreffen&Hoffest
DESCRIPTION:Liebe Oldtimer-Freundinnen und -Freunde\,liebe Mitglieder der befreundeten Vereine\, \n\n\n\nwir möchten Euch herzlich am 04.06.2026 ab 11:00 zu einem besonderen Treffen im Rahmen des Hoffests des Weinguts Wasem in Ingelheim einladen.https://www.wasem.de/de/300jahre/ \n\n\n\nGemeinsam mit dem Weingut Wasem feiern wir glänzenden Chrom\, echte Fahrkultur und besondere Jahrgänge – sowohl auf vier Rädern als auch im Glas. \n\n\n\nFreut Euch auf ein entspanntes Zusammensein zwischen historischen Fahrzeugen\, ausgezeichneten Weinen und kulinarischen Köstlichkeiten des Hoffests. \n\n\n\nUnd aufgepasst: Beim Oldtimer-Quiz könnt Ihr Euer Wissen unter Beweis stellen und habt die Chance auf einen der drei Hauptpreise.Für jeden angereisten Oldtimer gibt es außerdem ein exklusives Gastgeschenk. \n\n\n\nWir freuen uns sehr\, Euch und Eure Fahrzeuge (bis BJ 1996) bei diesem besonderen Anlass begrüßen zu dürfen und gemeinsam einen genussvollen Tag zu verbringen.Doch Vorsicht: wenn der Platz voll ist\, ist er voll. \n\n\n\nMit herzlichen Grüßen \n\n\n\nSimone Peters \n\n\n\nIngelheimer Oldtimer Initiative
URL:https://mvsg-info.de/event/oldtimertreffenhoffest/
ORGANIZER;CN="Ingelheimer-oldtimer-initiative.de":MAILTO:info@ingelheimer-oldtimer-initiative.de
END:VEVENT
END:VCALENDAR