BEGIN:VCALENDAR
VERSION:2.0
PRODID:-// - ECPv6.15.20//NONSGML v1.0//EN
CALSCALE:GREGORIAN
METHOD:PUBLISH
X-ORIGINAL-URL:https://mvsg-info.de
X-WR-CALDESC:Veranstaltungen für 
REFRESH-INTERVAL;VALUE=DURATION:PT1H
X-Robots-Tag:noindex
X-PUBLISHED-TTL:PT1H
BEGIN:VTIMEZONE
TZID:UTC
BEGIN:STANDARD
TZOFFSETFROM:+0000
TZOFFSETTO:+0000
TZNAME:UTC
DTSTART:20250101T000000
END:STANDARD
END:VTIMEZONE
BEGIN:VEVENT
DTSTART;TZID=UTC:20260412T000000
DTEND;TZID=UTC:20260412T235959
DTSTAMP:20260421T122116
CREATED:20260318T142533Z
LAST-MODIFIED:20260318T142649Z
UID:1589-1775952000-1776038399@mvsg-info.de
SUMMARY:Ransel (Oldie-Sunday)
DESCRIPTION:Auto und Motorrad
URL:https://mvsg-info.de/event/test-2/
END:VEVENT
END:VCALENDAR